BEGIN:VCALENDAR
VERSION:2.0
PRODID:-//wp-events-plugin.com//7.2.3.1//EN
TZID:America/Los_Angeles
X-WR-TIMEZONE:America/Los_Angeles
BEGIN:VEVENT
UID:11@intelligentpolice.com
DTSTART;TZID=America/Phoenix:20260617T080000
DTEND;TZID=America/Phoenix:20260617T170000
DTSTAMP:20260331T160103Z
URL:https://intelligentpolice.com/events/barricades-6-17-2026/
SUMMARY:Initial Response to Barricades at the NRTCCA Training Facility
DESCRIPTION:This 8-hour\, in-person course is designed to provide public sa
 fety professionals with the essential knowledge\, skills\, and decision-ma
 king tools required of first responding officers during barricade incident
 s. The focus is on safely stabilizing the situation\, reducing risk\, and 
 preserving life until specialized resources arrive.\nParticipants will lea
 rn how to effectively contain\, de-escalate\, communicate\, and transition
  barricade incidents to SWAT and crisis negotiators. Topics include defini
 ng barricade situations\, initial response priorities\, the Four Cs of bar
 ricade response (Contain\, Control\, Communicate\, Coordinate)\, effective
  communication and active listening skills\, and post-incident responsibil
 ities.\nDownload the Initial Response to Barricades June 17\, 2026 flyer h
 ere.
ATTACH;FMTTYPE=image/jpeg:https://intelligentpolice.com/wp-content/uploads
 /2023/10/ips-badge-3.png
CATEGORIES:PUBLIC SAFETY TRAINING
LOCATION:National Real Time Crime Center Association Training Facility\, 15
 354 North 83rd Way\, Scottsdale\, Arizona\, 85260\, United States
X-APPLE-STRUCTURED-LOCATION;VALUE=URI;X-ADDRESS=15354 North 83rd Way\, Scot
 tsdale\, Arizona\, 85260\, United States;X-APPLE-RADIUS=100;X-TITLE=Nation
 al Real Time Crime Center Association Training Facility:geo:0,0
END:VEVENT
BEGIN:VTIMEZONE
TZID:America/Phoenix
X-LIC-LOCATION:America/Phoenix
BEGIN:STANDARD
DTSTART:20250617T080000
TZOFFSETFROM:-0700
TZOFFSETTO:-0700
TZNAME:MST
END:STANDARD
END:VTIMEZONE
END:VCALENDAR