BEGIN:VCALENDAR
VERSION:2.0
PRODID:-//wp-events-plugin.com//7.2.3.1//EN
TZID:America/Los_Angeles
X-WR-TIMEZONE:America/Los_Angeles
BEGIN:VEVENT
UID:10@intelligentpolice.com
DTSTART;TZID=America/Los_Angeles:20260422T080000
DTEND;TZID=America/Los_Angeles:20260422T170000
DTSTAMP:20260409T154041Z
URL:https://intelligentpolice.com/events/barricades-4-22-2026/
SUMMARY:Initial Response to Barricades
DESCRIPTION:This 8-hour\, in-person course is designed to provide public sa
 fety professionals with the essential knowledge\, skills\, and decision-ma
 king tools required of first responding officers during barricade incident
 s. The focus is on safely stabilizing the situation\, reducing risk\, and 
 preserving life until specialized resources arrive.\nParticipants will lea
 rn how to effectively contain\, de-escalate\, communicate\, and transition
  barricade incidents to SWAT and crisis negotiators. Topics include defini
 ng barricade situations\, initial response priorities\, the Four Cs of bar
 ricade response (Contain\, Control\, Communicate\, Coordinate)\, effective
  communication and active listening skills\, and post-incident responsibil
 ities.\nDownload the Initial Response to Barricades April 22\, 2026 Flyer 
 here.
ATTACH;FMTTYPE=image/jpeg:https://intelligentpolice.com/wp-content/uploads
 /2023/10/ips-badge-3.png
CATEGORIES:PUBLIC SAFETY TRAINING
LOCATION:Southern Desert Regional Police Academy\, 311 S. Water Street\, Se
 cond Floor\, Henderson\, NV 89015\, Henderson\, Nevada (NV)\, 89015\, Unit
 ed States
X-APPLE-STRUCTURED-LOCATION;VALUE=URI;X-ADDRESS=311 S. Water Street\, Secon
 d Floor\, Henderson\, NV 89015\, Henderson\, Nevada (NV)\, 89015\, United 
 States;X-APPLE-RADIUS=100;X-TITLE=Southern Desert Regional Police Academy:
 geo:0,0
END:VEVENT
BEGIN:VTIMEZONE
TZID:America/Los_Angeles
X-LIC-LOCATION:America/Los_Angeles
BEGIN:DAYLIGHT
DTSTART:20260308T030000
TZOFFSETFROM:-0800
TZOFFSETTO:-0700
TZNAME:PDT
END:DAYLIGHT
END:VTIMEZONE
END:VCALENDAR